BEGIN:VCALENDAR
VERSION:2.0
PRODID:-//wp-events-plugin.com//7.2.3.1//EN
TZID:Europe/Paris
X-WR-TIMEZONE:Europe/Paris
BEGIN:VEVENT
UID:16@biogenouest.org
DTSTART;TZID=Europe/Paris:20241125T090000
DTEND;TZID=Europe/Paris:20241125T163000
DTSTAMP:20241122T113126Z
URL:https://www.biogenouest.org/events/traitement-des-donnees-du-signal-a-
 lintegration-de-donnees-heterogenes-journee-danimation-de-laxe-analyse-str
 ucturale-et-metabolomique-de-biogenouest/
SUMMARY:"Traitement des Données : Du signal à l’intégration de donnée
 s hétérogènes" - Journée d'animation de l'axe Analyse Structurale et M
 étabolomique de Biogenouest
DESCRIPTION:Journée d’animation proposée par l’axe Analyse structural
 e et métabolomique de Biogenouest le 25 novembre 2024 à Rennes sur le th
 ème « Traitements des données : du signal à l’intégration de donn
 ées hétérogènes »\n\n📍Pôle Numérique Rennes Beaulieu - 263 Aven
 ue du Général Leclerc - 35700 Rennes\n\nLa journée\, ouverte à toute l
 a communauté Biogenouest\, se déroulera en présentiel sur le campus de 
 Beaulieu à Rennes le lundi 25 novembre 2024 de 9h à 16h30. Elle vise à 
 explorer les avancées\, défis et opportunités dans le domaine du traite
 ment et l’analyse des données\, en mettant particulièrement l'accent s
 ur leur validation\, l'obtention de clés d’interprétation\, et l'inté
 gration de données provenant de diverses sources\, telles que celles issu
 es de la spectrométrie de masse\, la RMN\, la chromatographie\, les appro
 ches dites « omiques » et l'imagerie.\n\n✏️ Inscription\n\n📗 Prog
 ramme détaillé\n« Traitement des données : \ndu signal à l'intégrat
 ion de données hétérogènes »\nOuvert à toutes et à tous\, sur inscr
 iption (avant le 15 novembre 2024)\n9:00  Accueil Café\n9:30 - Introduct
 ion de la journée\nSession Traitement du signal\n10:00 « Analyses de com
 positions isotopiques d’acide gras par GC-c-IRMS : problèmes rencontré
 s lors du traitement du signal\, réflexions et pistes d‘améliorations.
  » par Loïc Harrault\, Rudolph Corvaisier\, Fabienne Le Grand et Philipp
 e Soudant\, LIPIDOCEAN\, Brest\n10:20  « Développements algorithmiques 
 pour le traitement d’images 3D de grande volumétrie » par David Leglan
 d\, BIBS\, Nantes\n10:40 « Couplage GSMNs et profilages métaboliques pou
 r la reconstruction de voies de biosynthèse » par Gabriel Markov\, LBI2M
 \, Roscoff\nSession Visualisation des données\n11:00 « XploreMzSpectra :
  un outil pour explorer les ressemblances d'une collection de spectres de 
 masse » par Virginie Lollier\, BIBS\, Nantes\n11:20 « ODAM: Open Data fo
 r Access and Mining” par Daniel Jacob\, BIBS\, Nantes\n11:40 « Identifi
 cation et quantification automatique de métabolites dans des spectres RMN
  » par Rémi Servien\, Laboratoire de Biotechnologie de l'Environnement\,
  Narbonne\n12:10  Pause déjeuner\nSession Intégration de données hét
 érogènes\n14:00  « La métabolomique : une mine d'or de données néce
 ssitant une collaboration renforcée entre chimistes et bioinformaticiens 
 » par Yann Guitton\, Corsaire-Melisa\, Nantes\n14:20  « Outils bio-info
 rmatiques et méthodologie pour l'interprétation des données transcripto
 miques et leur intégration aux données métabolomiques » par Mathieu Ro
 uel\, UMR_S1064 Center for Research in transplantation and Translational I
 mmunology\, Nantes\n14:40 « Couplage de la métabolomique non ciblée et 
 du métabarcoding : une approche d’intérêt pour l’étude des interac
 tions symbiotiques marines » par Samuel Orgeas-Gobin\, MNHN et AD2M\, Ros
 coff\n15:00  Pause café/thé\n15:30 : « Métabolomique et intégration 
 de données : application à l'étude transversale SAFIR » par Chloé Clo
 teau\, Corsaire-M.shark\, Nantes\n15:50 « L'intégration multi-bloc de di
 fférents jeux de données de RMN métabolomique pour répondre à diverse
 s questions : de l'intérêt technologique à l'intérêt clinique » par 
 Marine Letertre\, Corsaire-RMN CEISAM\, Nantes\n16:10 « Diversité phytoc
 himique de collections génétiques de Brassicacées pour la recherche de 
 caractères d'intérêts agronomiques et agroécologiques » par Pauline L
 e Boulch\, Corsaire-P2M2\, Rennes\n16:30  Clôture de la journée\n\nCré
 dits photo : Designed by Freepik
ATTACH;FMTTYPE=image/jpeg:https://www.biogenouest.org/wp-content/uploads/2
 024/07/futurism-perspective-digital-nomads-lifestyle-scaled.jpg
LOCATION:https://maps.app.goo.gl/DAGC1zxe4Y8DQQV6A
END:VEVENT
BEGIN:VTIMEZONE
TZID:Europe/Paris
X-LIC-LOCATION:Europe/Paris
BEGIN:STANDARD
DTSTART:20241027T020000
TZOFFSETFROM:+0200
TZOFFSETTO:+0100
TZNAME:CET
END:STANDARD
END:VTIMEZONE
END:VCALENDAR