BEGIN:VCALENDAR
VERSION:2.0
PRODID:-//wp-events-plugin.com//7.2.3.1//EN
TZID:Europe/Paris
X-WR-TIMEZONE:Europe/Paris
BEGIN:VEVENT
UID:27@biogenouest.org
DTSTART;TZID=Europe/Paris:20250626T120000
DTEND;TZID=Europe/Paris:20250626T170000
DTSTAMP:20250513T101405Z
URL:https://www.biogenouest.org/events/assemblee-2025-biogenouest/
SUMMARY:Assemblée 2025 de Biogenouest
DESCRIPTION:Toute l'équipe de Biogenouest a le plaisir de vous convier à 
 son :\n\n \nAssemblée annuelle \n\nle 26 juin 2025 au Diapason à Renne
 s \nà partir de 12h.\n\n(Pour information\, le Conseil scientifique de B
 iogenouest se réunira le matin\, également au Diapason).\n👉 Inscripti
 ons\n\nAu programme :\n12:00 | Buffet déjeunatoire convivial\n14:00 | Acc
 ueil par Aurélie Courcoul\, présidente du GIS Biogenouest\n14:15 | Pierr
 e Boudry\, directeur du GIS Biogenouest : "Faits marquants et actualités 
 du réseau"\n14:30 | Bruno Robert\, directeur du GIS IBiSA : "IBiSA\, évo
 lutions récentes et nouvelles missions"\n15:00 | Perrine Paul-Gilloteaux\
 , responsable scientifique de la plateforme MicroPICell : "Vision de l'éc
 osystème des plateformes\, du local aux infrastructures de recherche euro
 péennes"\n15:30 | Mot de conclusion avec Pierre Boudry\n15:45 | Activité
 s ludiques "Eco-Games" (voir description et inscription ci-dessous)\n17:15
  | Fin de l'Assemblée\n👉 L'inscription est gratuite et obligatoire et
  à faire avant le vendredi 13 juin ici \n\n\n\n\nEntrez dans l’univers 
 des Eco Games\, un jeu immersif et compétitif pour vous sensibiliser aux 
 enjeux du développement durable à travers des défis ludiques et engagea
 nts !\n\n\n\n✅ Manipulation et coopération avec l’Aquaduc Solidaire p
 our économiser l’eau au maximum.\n✅ Déduction et stratégie avec SOS
  Écogestes au Bureau\, un jeu de cartes pour associer activités et émis
 sions de CO₂.\n✅ Challenge sportif et sensoriel avec le Torball\, un m
 atch intense à l’aveugle où l’écoute et la coordination seront esse
 ntielles.\n✅ Créativité et langage avec Éco’Expressions\, un jeu d
 ’équipe pour deviner des expressions particulières sous contrainte.\n
 ✅ Alimentation responsable avec L’Assiette Durable\, un défi pour com
 prendre l’impact de l’alimentation et de vos choix alimentaires.\n✅ 
 Tri et précision avec Le Cornhole du Tri\, où chaque bon geste compte po
 ur marquer des points !\n\nSensibilisation\, engagement et amusement sont 
 les maîtres-mots de ce challenge !\nRéparties en équipes\, vous apprend
 rez des éco-gestes concrets tout en vous amusant et en affrontant vos adv
 ersaires.\n\nPrêt·e·s à relever le défi ? Inscrivez-vous ici !
ATTACH;FMTTYPE=image/jpeg:https://www.biogenouest.org/wp-content/uploads/2
 025/05/diapason_ext.jpg
LOCATION:https://maps.app.goo.gl/FJNJjmP4HCYadoxdA
END:VEVENT
BEGIN:VTIMEZONE
TZID:Europe/Paris
X-LIC-LOCATION:Europe/Paris
BEGIN:DAYLIGHT
DTSTART:20250330T030000
TZOFFSETFROM:+0100
TZOFFSETTO:+0200
TZNAME:CEST
END:DAYLIGHT
END:VTIMEZONE
END:VCALENDAR